BEGIN:VCALENDAR
VERSION:2.0
PRODID:-//hacksw/handcal//NONSGML v1.0//EN
BEGIN:VEVENT
SUMMARY:4eme Meeting des Pyrenees Atlantique
UID:c1e35e6c-3002-4d3c-a767-fe1c4f540a02
DTSTART:20260314T230000Z
DTEND:20260315T230000Z
LOCATION:Localisation   
CATEGORIES:Sportif
STATUS:
DESCRIPTION:<p><strong>4eme Meeting des Pyrenees
 Atlantique</strong></p>
 
 <p><u>Date</u>:
 15/03/2026</p>
 
 <p><u>Lieu</u>: Stade nautique de
 Pau</p>
 
 <p><u>Heure</u>: </p>
 
 <p><u>Organisateur</u>: Comite
 Departemental des Pyrenees Atlantiques de la
 FFSS</p>
 
 <p><u>Categories</u>: Cadet, Junior, Senior et
 Master</p>
 
 <p><u>Epreuves</u>: Longue distance</p>
 
 <p><u>Presence
 du coach</u>: Non</p>
 
 <p><u>Deplacement</u>: En
 autonomie</p>
 
 <p><u>Date limite engagement</u>: 10/03/2026</p>
URL;VALUE=URI:https://www.muretsauvetage.fr/evenements/2026/03/15/4eme-meeting-des-pyrenees-atlantique-2422357
END:VEVENT
END:VCALENDAR
