BEGIN:VCALENDAR
VERSION:2.0
PRODID:-//hacksw/handcal//NONSGML v1.0//EN
BEGIN:VEVENT
SUMMARY:Championnat de France N1
UID:c576c7c2-97eb-4f73-98d7-8238ce03788e
DTSTART:20260326T230000Z
DTEND:20260329T230000Z
LOCATION:Localisation   
CATEGORIES:Sportif
STATUS:
DESCRIPTION:<p><strong>Championnat de France
 N1</strong></p>
 
 <p><u>Date</u>:
 27-29/03/2026</p>
 
 <p><u>Lieu</u>: Merignac</p>
 
 <p><u>Heure</u>: </p>
 
 <p><u>Organisateur</u>:
 FFSS</p>
 
 <p><u>Categories</u>: Cadet, Junior,
 Senior</p>
 
 <p><u>Epreuves</u>: programme complet</p>
 
 <p><u>Presence
 du coach</u>: Oui</p>
 
 <p><u>Deplacement</u>: organise par le
 club</p>
 
 <p><strong style="box-sizing:border-box;
 font-weight:bolder; color:#012b56; font-family:Roboto, sans-serif;
 font-size:16px; font-style:normal; font-variant-ligatures:normal;
 text-align:justify; white-space:normal; background-color:#ffffff;
 text-decoration-thickness:initial; text-decoration-style:initial;
 text-decoration-color:initial"><font style="box-sizing:border-box;
 vertical-align:inherit"><font style="box-sizing:border-box;
 vertical-align:inherit">Periode d'engagement : du 17/03/26 au
 23/03/26</font></font></strong></p>
URL;VALUE=URI:https://www.muretsauvetage.fr/evenements/2026/03/27/championnat-de-france-n1-2423997
END:VEVENT
END:VCALENDAR
