BEGIN:VCALENDAR
VERSION:2.0
PRODID:-//hacksw/handcal//NONSGML v1.0//EN
BEGIN:VEVENT
SUMMARY:Championnat France N2 et Masters
UID:11b06146-50ff-4527-9195-c59a6539cf85
DTSTART:20260417T220000Z
DTEND:20260419T220000Z
LOCATION:Localisation   
CATEGORIES:Sportif
STATUS:
DESCRIPTION:<p><strong>Championnat de France N2 et
 Masters</strong></p>
 
 <p><u>Date</u>:
 18-19/04/2026</p>
 
 <p><u>Lieu</u>: Tarbes</p>
 
 <p><u>Heure</u>: </p>
 
 <p><u>Organisateur</u>:
 FFSS</p>
 
 <p><u>Categories</u>: Cadet, Junior,
 Senior</p>
 
 <p><u>Epreuves</u>: programme complet</p>
 
 <p><u>Presence
 du coach</u>: Oui</p>
 
 <p><u>Deplacement</u>: organise par le
 club</p>
 
 <p><strong style="box-sizing:border-box;
 font-weight:bolder; color:#012b56; font-family:Roboto, sans-serif;
 font-size:16px; font-style:normal; font-variant-ligatures:normal;
 text-align:justify; white-space:normal; background-color:#ffffff;
 text-decoration-thickness:initial; text-decoration-style:initial;
 text-decoration-color:initial"><font style="box-sizing:border-box;
 vertical-align:inherit"><font style="box-sizing:border-box;
 vertical-align:inherit">Periode d'engagement : du 07/04/26 au
 13/04/26</font></font></strong></p>
URL;VALUE=URI:https://www.muretsauvetage.fr/evenements/2026/04/18/championnat-france-n2-et-masters-2424006
END:VEVENT
END:VCALENDAR
