BEGIN:VCALENDAR
VERSION:2.0
PRODID:-//hacksw/handcal//NONSGML v1.0//EN
BEGIN:VEVENT
SUMMARY:Ch. Regional eau-plate
UID:ac49e4f4-618b-4783-999a-e4d708747224
DTSTART:20260501T220000Z
DTEND:20260503T220000Z
LOCATION:Localisation   
CATEGORIES:Sportif
STATUS:
DESCRIPTION:<p><strong>Ch. Regional Eau
 plate</strong></p>
 
 <p><u>Date</u>:
 2-3/05/2026</p>
 
 <p><u>Lieu</u>: Montauban</p>
 
 <p><u>Heure</u>: </p>
 
 <p><u>Organisateur</u>:
 CD31</p>
 
 <p><u>Categories</u>: Avenir, Poussin,
 Master</p>
 
 <p><u>Epreuves</u>: short course</p>
 
 <p><u>Presence du
 coach</u>: Non</p>
 
 <p><u>Deplacement</u>: En autonomie</p>
 
 <p><br
 />
 <u>Date limite engagement</u>: 28/04/2026</p>
URL;VALUE=URI:https://www.muretsauvetage.fr/evenements/2026/05/02/ch-regional-eau-plate-2426533
END:VEVENT
END:VCALENDAR
