BEGIN:VCALENDAR
VERSION:2.0
PRODID:-//hacksw/handcal//NONSGML v1.0//EN
BEGIN:VEVENT
SUMMARY:French Rescue
UID:f0440589-0521-4cce-afc6-c6f5492ce3cd
DTSTART:20260513T220000Z
DTEND:20260517T220000Z
LOCATION:Localisation   
CATEGORIES:Sportif
STATUS:
DESCRIPTION:<div class="row" style="margin-right:-12px;
 margin-left:-12px; text-align:start">
 <div class="col-12"
 style="width:1329px; max-width:100%; padding-right:12px;
 padding-left:12px">
 <section id="main-content"
 style="box-sizing:border-box">
 <p style="margin-bottom:16px"><span
 style="font-size:16px"><span style="box-sizing:border-box"><span
 style="--bs-gutter-x:1.5rem"><span style="--bs-gutter-y:0"><span
 style="display:flex"><span style="flex-wrap:wrap"><font
 color="#777777" face="Arial, sans-serif"><b>French
 Rescue</b></font></span></span></span></span></span></span></p>
 
 <p
 style="margin-bottom:16px"><span style="font-size:16px"><span
 style="box-sizing:border-box"><span
 style="--bs-gutter-x:1.5rem"><span style="--bs-gutter-y:0"><span
 style="display:flex"><span style="flex-wrap:wrap"><span
 style="color:#777777"><span style="font-family:Arial,
 sans-serif"><span style="font-style:normal"><span
 style="font-variant-ligatures:normal"><span
 style="font-weight:400"><span style="white-space:normal"><span
 style="background-color:#ffffff"><span
 style="text-decoration-thickness:initial"><span
 style="text-decoration-style:initial"><span
 style="text-decoration-color:initial"><span
 style="box-sizing:border-box"><span style="flex:0 0 auto"><span
 style="box-sizing:border-box"><u
 style="box-sizing:border-box">Date</u>:
 14-17/05/2026</span></span></span></span></span></span></span></span></span></span></span></span></span></span></span></span></span></span></span></p>
 
 <p
 style="margin-bottom:16px"><span style="font-size:16px"><span
 style="box-sizing:border-box"><span
 style="--bs-gutter-x:1.5rem"><span style="--bs-gutter-y:0"><span
 style="display:flex"><span style="flex-wrap:wrap"><span
 style="color:#777777"><span style="font-family:Arial,
 sans-serif"><span style="font-style:normal"><span
 style="font-variant-ligatures:normal"><span
 style="font-weight:400"><span style="white-space:normal"><span
 style="background-color:#ffffff"><span
 style="text-decoration-thickness:initial"><span
 style="text-decoration-style:initial"><span
 style="text-decoration-color:initial"><span
 style="box-sizing:border-box"><span style="flex:0 0 auto"><span
 style="box-sizing:border-box"><u
 style="box-sizing:border-box">Lieu</u>: Montpellier et La Grande
 Motte</span></span></span></span></span></span></span></span></span></span></span></span></span></span></span></span></span></span></span></p>
 
 <p
 style="margin-bottom:16px"><span style="font-size:16px"><span
 style="box-sizing:border-box"><span
 style="--bs-gutter-x:1.5rem"><span style="--bs-gutter-y:0"><span
 style="display:flex"><span style="flex-wrap:wrap"><span
 style="color:#777777"><span style="font-family:Arial,
 sans-serif"><span style="font-style:normal"><span
 style="font-variant-ligatures:normal"><span
 style="font-weight:400"><span style="white-space:normal"><span
 style="background-color:#ffffff"><span
 style="text-decoration-thickness:initial"><span
 style="text-decoration-style:initial"><span
 style="text-decoration-color:initial"><span
 style="box-sizing:border-box"><span style="flex:0 0 auto"><span
 style="box-sizing:border-box"><u
 style="box-sizing:border-box">Heure</u>: </span></span></span></span></span></span></span></span></span></span></span></span></span></span></span></span></span></span></span></p>
 
 <p
 style="margin-bottom:16px"><span style="font-size:16px"><span
 style="box-sizing:border-box"><span
 style="--bs-gutter-x:1.5rem"><span style="--bs-gutter-y:0"><span
 style="display:flex"><span style="flex-wrap:wrap"><span
 style="color:#777777"><span style="font-family:Arial,
 sans-serif"><span style="font-style:normal"><span
 style="font-variant-ligatures:normal"><span
 style="font-weight:400"><span style="white-space:normal"><span
 style="background-color:#ffffff"><span
 style="text-decoration-thickness:initial"><span
 style="text-decoration-style:initial"><span
 style="text-decoration-color:initial"><span
 style="box-sizing:border-box"><span style="flex:0 0 auto"><span
 style="box-sizing:border-box"><u
 style="box-sizing:border-box">Organisateur</u>:
 FFSS</span></span></span></span></span></span></span></span></span></span></span></span></span></span></span></span></span></span></span></p>
 
 <p
 style="margin-bottom:16px"><span style="font-size:16px"><span
 style="box-sizing:border-box"><span
 style="--bs-gutter-x:1.5rem"><span style="--bs-gutter-y:0"><span
 style="display:flex"><span style="flex-wrap:wrap"><span
 style="color:#777777"><span style="font-family:Arial,
 sans-serif"><span style="font-style:normal"><span
 style="font-variant-ligatures:normal"><span
 style="font-weight:400"><span style="white-space:normal"><span
 style="background-color:#ffffff"><span
 style="text-decoration-thickness:initial"><span
 style="text-decoration-style:initial"><span
 style="text-decoration-color:initial"><span
 style="box-sizing:border-box"><span style="flex:0 0 auto"><span
 style="box-sizing:border-box"><u
 style="box-sizing:border-box">Categories</u>: Cadet, Junior,
 Senior</span></span></span></span></span></span></span></span></span></span></span></span></span></span></span></span></span></span></span></p>
 
 <p
 style="margin-bottom:16px"><span style="font-size:16px"><span
 style="box-sizing:border-box"><span
 style="--bs-gutter-x:1.5rem"><span style="--bs-gutter-y:0"><span
 style="display:flex"><span style="flex-wrap:wrap"><span
 style="color:#777777"><span style="font-family:Arial,
 sans-serif"><span style="font-style:normal"><span
 style="font-variant-ligatures:normal"><span
 style="font-weight:400"><span style="white-space:normal"><span
 style="background-color:#ffffff"><span
 style="text-decoration-thickness:initial"><span
 style="text-decoration-style:initial"><span
 style="text-decoration-color:initial"><span
 style="box-sizing:border-box"><span style="flex:0 0 auto"><span
 style="box-sizing:border-box"><u
 style="box-sizing:border-box">Epreuves</u>: programme complet
 eau-plate et
 cotier</span></span></span></span></span></span></span></span></span></span></span></span></span></span></span></span></span></span></span></p>
 
 <p
 style="margin-bottom:16px"><span style="font-size:16px"><span
 style="box-sizing:border-box"><span
 style="--bs-gutter-x:1.5rem"><span style="--bs-gutter-y:0"><span
 style="display:flex"><span style="flex-wrap:wrap"><span
 style="color:#777777"><span style="font-family:Arial,
 sans-serif"><span style="font-style:normal"><span
 style="font-variant-ligatures:normal"><span
 style="font-weight:400"><span style="white-space:normal"><span
 style="background-color:#ffffff"><span
 style="text-decoration-thickness:initial"><span
 style="text-decoration-style:initial"><span
 style="text-decoration-color:initial"><span
 style="box-sizing:border-box"><span style="flex:0 0 auto"><span
 style="box-sizing:border-box"><u
 style="box-sizing:border-box">Presence du coach</u>:
 Oui</span></span></span></span></span></span></span></span></span></span></span></span></span></span></span></span></span></span></span></p>
 
 <p
 style="margin-bottom:16px"><span style="font-size:16px"><span
 style="box-sizing:border-box"><span
 style="--bs-gutter-x:1.5rem"><span style="--bs-gutter-y:0"><span
 style="display:flex"><span style="flex-wrap:wrap"><span
 style="color:#777777"><span style="font-family:Arial,
 sans-serif"><span style="font-style:normal"><span
 style="font-variant-ligatures:normal"><span
 style="font-weight:400"><span style="white-space:normal"><span
 style="background-color:#ffffff"><span
 style="text-decoration-thickness:initial"><span
 style="text-decoration-style:initial"><span
 style="text-decoration-color:initial"><span
 style="box-sizing:border-box"><span style="flex:0 0 auto"><span
 style="box-sizing:border-box"><u
 style="box-sizing:border-box">Deplacement</u>: organise par le
 club</span></span></span></span></span></span></span></span></span></span></span></span></span></span></span></span></span></span></span></p>
 
 <p
 style="margin-bottom:16px"><span style="font-size:16px"><span
 style="box-sizing:border-box"><span
 style="--bs-gutter-x:1.5rem"><span style="--bs-gutter-y:0"><span
 style="display:flex"><span style="flex-wrap:wrap"><span
 style="color:#777777"><span style="font-family:Arial,
 sans-serif"><span style="font-style:normal"><span
 style="font-variant-ligatures:normal"><span
 style="font-weight:400"><span style="white-space:normal"><span
 style="background-color:#ffffff"><span
 style="text-decoration-thickness:initial"><span
 style="text-decoration-style:initial"><span
 style="text-decoration-color:initial"><span
 style="box-sizing:border-box"><span style="flex:0 0 auto"><span
 style="box-sizing:border-box"><strong style="box-sizing:border-box;
 font-weight:bolder; color:#012b56; font-family:Roboto, sans-serif;
 font-size:16px; font-style:normal; font-variant-ligatures:normal;
 text-align:justify; white-space:normal; background-color:#ffffff;
 text-decoration-thickness:initial; text-decoration-style:initial;
 text-decoration-color:initial"><font style="box-sizing:border-box;
 vertical-align:inherit"><font style="box-sizing:border-box;
 vertical-align:inherit">Periode d'engagement : du 28/04/26 au
 05/05/26</font></font></strong></span></span></span></span></span></span></span></span></span></span></span></span></span></span></span></span></span></span></span></p>
 </section>
 </div>
 
 <p> </p>
 </div>
URL;VALUE=URI:https://www.muretsauvetage.fr/evenements/2026/05/14/french-rescue-2436522
END:VEVENT
END:VCALENDAR
